BEGIN:VCALENDAR
VERSION:2.0
PRODID:-//mWEB//NONSGML mWEB//NB
URL:https://www.valderoybedehus.no/kalender/ics
X-WR-CALNAME:Valderøy bedehus
REFRESH-INTERVAL;VALUE=DURATION:PT6H
X-PUBLISHED-TTL:PT6H    
CALSCALE:GREGORIAN
BEGIN:VEVENT
UID:valderoybedehus.no-3236
DTSTAMP:20260422T083258Z
DTSTART:20260506T180000Z
DTEND:20260506T190000Z
URL:https://www.valderoybedehus.no/kalender/2026/05/06/bonnemote/3236/
CREATED:20260113T133424Z
LAST-MODIFIED:20260113T133424Z
SUMMARY:Bønnemøte
DESCRIPTION:\n\nhttps://www.valderoybedehus.no/kalender/2026/05/06/bonnemote/3236/
LOCATION:Valderøy Bedehus
END:VEVENT

END:VCALENDAR