BEGIN:VCALENDAR
VERSION:2.0
PRODID:-//mWEB//NONSGML mWEB//NB
URL:https://www.valderoybedehus.no/kalender/ics
X-WR-CALNAME:Valderøy bedehus
REFRESH-INTERVAL;VALUE=DURATION:PT6H
X-PUBLISHED-TTL:PT6H    
CALSCALE:GREGORIAN
BEGIN:VEVENT
UID:valderoybedehus.no-3269
DTSTAMP:20260423T133101Z
DTSTART:20260428T170000Z
DTEND:20260428T183000Z
URL:https://www.valderoybedehus.no/kalender/2026/04/28/gunnar-hamnoy-per-gunnar-hamnoy-boklansering-valderoykvartetten/3269/
CREATED:20260422T180838Z
LAST-MODIFIED:20260422T180838Z
SUMMARY:Gunnar Hamnøy - Per Gunnar Hamnøy - Boklansering\, Valderøykvartetten
DESCRIPTION:Per Gunnar i samtale med far\, Gunnar Hamnøy\, om oppveksten på Skodje\, politisk engasjement og eit liv med misjon og bistand.\n\nhttps://www.valderoybedehus.no/kalender/2026/04/28/gunnar-hamnoy-per-gunnar-hamnoy-boklansering-valderoykvartetten/3269/
LOCATION:Valderøy Bedehus
END:VEVENT

END:VCALENDAR