BEGIN:VCALENDAR
VERSION:2.0
PRODID:-//mWEB//NONSGML mWEB//NB
URL:https://www.valderoybedehus.no/kalender/ics
X-WR-CALNAME:Valderøy bedehus
REFRESH-INTERVAL;VALUE=DURATION:PT6H
X-PUBLISHED-TTL:PT6H    
CALSCALE:GREGORIAN
BEGIN:VEVENT
UID:valderoybedehus.no-3200
DTSTAMP:20260422T094007Z
DTSTART:20260423T180000Z
DTEND:20260423T193000Z
URL:https://www.valderoybedehus.no/kalender/2026/04/23/bibellesing-2-kor-kap-6/3200/
CREATED:20251216T171129Z
LAST-MODIFIED:20251216T171129Z
SUMMARY:Bibellesing\, 2. Kor. kap. 6
DESCRIPTION:\n\nhttps://www.valderoybedehus.no/kalender/2026/04/23/bibellesing-2-kor-kap-6/3200/
LOCATION:Valderøy Bedehus
END:VEVENT

END:VCALENDAR