BEGIN:VCALENDAR
VERSION:2.0
PRODID:-//mWEB//NONSGML mWEB//NB
URL:https://www.valderoybedehus.no/kalender/ics
X-WR-CALNAME:Valderøy bedehus
REFRESH-INTERVAL;VALUE=DURATION:PT6H
X-PUBLISHED-TTL:PT6H    
CALSCALE:GREGORIAN
BEGIN:VEVENT
UID:valderoybedehus.no-3183
DTSTAMP:20260422T082741Z
DTSTART:20260419T173000Z
DTEND:20260419T190000Z
URL:https://www.valderoybedehus.no/kalender/2026/04/19/moteserie-vden-indre-sjomannsmisjon-tale-vjohan-olsen-song-vtor-rodseth/3183/
CREATED:20251114T124529Z
LAST-MODIFIED:20260330T063109Z
SUMMARY:Møteserie v/Den Indre Sjømannsmisjon - Tale v/Johan Olsen\, Song v/Tor Rødseth
DESCRIPTION:\n\nhttps://www.valderoybedehus.no/kalender/2026/04/19/moteserie-vden-indre-sjomannsmisjon-tale-vjohan-olsen-song-vtor-rodseth/3183/
LOCATION:Valderøy Bedehus
END:VEVENT

END:VCALENDAR