BEGIN:VCALENDAR
VERSION:2.0
PRODID:-//mWEB//NONSGML mWEB//NB
URL:https://www.valderoybedehus.no/kalender/ics
X-WR-CALNAME:Valderøy bedehus
REFRESH-INTERVAL;VALUE=DURATION:PT6H
X-PUBLISHED-TTL:PT6H    
CALSCALE:GREGORIAN
BEGIN:VEVENT
UID:valderoybedehus.no-3179
DTSTAMP:20260422T082534Z
DTSTART:20260412T090000Z
DTEND:20260412T103000Z
URL:https://www.valderoybedehus.no/kalender/2026/04/12/sondagsmotesondagsskule-nattverd/3179/
CREATED:20251114T124315Z
LAST-MODIFIED:20251114T125341Z
SUMMARY:Søndagsmøte/Søndagsskule - Nattverd
DESCRIPTION:\n\nhttps://www.valderoybedehus.no/kalender/2026/04/12/sondagsmotesondagsskule-nattverd/3179/
LOCATION:Valderøy Bedehus
END:VEVENT

END:VCALENDAR