BEGIN:VCALENDAR
VERSION:2.0
PRODID:-//mWEB//NONSGML mWEB//NB
URL:https://www.valderoybedehus.no/kalender/ics
X-WR-CALNAME:Valderøy bedehus
REFRESH-INTERVAL;VALUE=DURATION:PT6H
X-PUBLISHED-TTL:PT6H    
CALSCALE:GREGORIAN
BEGIN:VEVENT
UID:valderoybedehus.no-3178
DTSTAMP:20260421T081434Z
DTSTART:20260329T090000Z
DTEND:20260329T103000Z
URL:https://www.valderoybedehus.no/kalender/2026/03/29/sondagsmotesondagsskule/3178/
CREATED:20251114T124253Z
LAST-MODIFIED:20251114T124253Z
SUMMARY:Søndagsmøte/Søndagsskule
DESCRIPTION:\n\nhttps://www.valderoybedehus.no/kalender/2026/03/29/sondagsmotesondagsskule/3178/
LOCATION:Valderøy Bedehus
END:VEVENT

END:VCALENDAR