BEGIN:VCALENDAR
VERSION:2.0
PRODID:-//mWEB//NONSGML mWEB//NB
URL:https://www.valderoybedehus.no/kalender/ics
X-WR-CALNAME:Valderøy bedehus
REFRESH-INTERVAL;VALUE=DURATION:PT6H
X-PUBLISHED-TTL:PT6H    
CALSCALE:GREGORIAN
BEGIN:VEVENT
UID:valderoybedehus.no-3177
DTSTAMP:20260421T081300Z
DTSTART:20260322T160000Z
DTEND:20260322T173000Z
URL:https://www.valderoybedehus.no/kalender/2026/03/22/moteserie-vhong-kong-foreninga-moskar-nordbo-song-vgiske-barnekor-boller-blir-servert-etterpa/3177/
CREATED:20251114T124221Z
LAST-MODIFIED:20260209T115246Z
SUMMARY:Møteserie v/Hong Kong-foreninga\, m/Oskar Nordbø\, song v/Giske barnekor\, boller blir servert etterpå
DESCRIPTION:\n\nhttps://www.valderoybedehus.no/kalender/2026/03/22/moteserie-vhong-kong-foreninga-moskar-nordbo-song-vgiske-barnekor-boller-blir-servert-etterpa/3177/
LOCATION:Valderøy Bedehus
END:VEVENT

END:VCALENDAR