BEGIN:VCALENDAR
VERSION:2.0
PRODID:-//mWEB//NONSGML mWEB//NB
URL:https://www.valderoybedehus.no/kalender/ics
X-WR-CALNAME:Valderøy bedehus
REFRESH-INTERVAL;VALUE=DURATION:PT6H
X-PUBLISHED-TTL:PT6H    
CALSCALE:GREGORIAN
BEGIN:VEVENT
UID:valderoybedehus.no-3215
DTSTAMP:20260421T085707Z
DTSTART:20260316T173000Z
DTEND:20260316T190000Z
URL:https://www.valderoybedehus.no/kalender/2026/03/16/betweens/3215/
CREATED:20260105T164827Z
LAST-MODIFIED:20260105T164827Z
SUMMARY:Betweens
DESCRIPTION:\n\nhttps://www.valderoybedehus.no/kalender/2026/03/16/betweens/3215/
LOCATION:Valderøy Bedehus
END:VEVENT

END:VCALENDAR